BEGIN:VCALENDAR
VERSION:2.0
PRODID:-//Medina Mayurca Schlaraffia (419) - ECPv6.15.20//NONSGML v1.0//EN
CALSCALE:GREGORIAN
METHOD:PUBLISH
X-ORIGINAL-URL:https://medina-mayurca.de
X-WR-CALDESC:Veranstaltungen für Medina Mayurca Schlaraffia (419)
REFRESH-INTERVAL;VALUE=DURATION:PT1H
X-Robots-Tag:noindex
X-PUBLISHED-TTL:PT1H
BEGIN:VTIMEZONE
TZID:Europe/Madrid
BEGIN:DAYLIGHT
TZOFFSETFROM:+0100
TZOFFSETTO:+0200
TZNAME:CEST
DTSTART:20230326T010000
END:DAYLIGHT
BEGIN:STANDARD
TZOFFSETFROM:+0200
TZOFFSETTO:+0100
TZNAME:CET
DTSTART:20231029T010000
END:STANDARD
BEGIN:DAYLIGHT
TZOFFSETFROM:+0100
TZOFFSETTO:+0200
TZNAME:CEST
DTSTART:20240331T010000
END:DAYLIGHT
BEGIN:STANDARD
TZOFFSETFROM:+0200
TZOFFSETTO:+0100
TZNAME:CET
DTSTART:20241027T010000
END:STANDARD
BEGIN:DAYLIGHT
TZOFFSETFROM:+0100
TZOFFSETTO:+0200
TZNAME:CEST
DTSTART:20250330T010000
END:DAYLIGHT
BEGIN:STANDARD
TZOFFSETFROM:+0200
TZOFFSETTO:+0100
TZNAME:CET
DTSTART:20251026T010000
END:STANDARD
END:VTIMEZONE
BEGIN:VEVENT
DTSTART;TZID=Europe/Madrid:20241123T110000
DTEND;TZID=Europe/Madrid:20241123T140000
DTSTAMP:20260423T011132
CREATED:20241120T150730Z
LAST-MODIFIED:20241120T151205Z
UID:10000317-1732359600-1732370400@medina-mayurca.de
SUMMARY:Krystaline / Stammtisch bei Algaida
DESCRIPTION:Stammtisch und ungezwungenes Treffen im \nChâteau Vino de la Isla in der Nähe von Algaida.\nSie finden das Château an der Autobahn MA-15 bei Ausfahrt 20.\nDas Gebäude ist nicht zu übersehen. \nZwischen 11 bis 14 Uhr. \nGäste sind willkommen.\nSie erkennen den Schlaraffen-Tisch an dem Tischaufsteller mit dem Uhu.
URL:https://medina-mayurca.de/event/krystaline-stammtisch-bei-algaida/
LOCATION:Château  Vino de la Isla\, Ma-15 Salida 20\, Algaida\, Illes Balears\, 07210\, Spain
CATEGORIES:Krystalline
ATTACH;FMTTYPE=image/jpeg:https://medina-mayurca.de/wp-content/uploads/2024/11/vinoburg.jpg
GEO:39.5693937;2.8804938
X-APPLE-STRUCTURED-LOCATION;VALUE=URI;X-ADDRESS=Château  Vino de la Isla Ma-15 Salida 20 Algaida Illes Balears 07210 Spain;X-APPLE-RADIUS=500;X-TITLE=Ma-15 Salida 20:geo:2.8804938,39.5693937
END:VEVENT
END:VCALENDAR