BEGIN:VCALENDAR
VERSION:2.0
PRODID:-//Medina Mayurca Schlaraffia (419) - ECPv6.15.20//NONSGML v1.0//EN
CALSCALE:GREGORIAN
METHOD:PUBLISH
X-WR-CALNAME:Medina Mayurca Schlaraffia (419)
X-ORIGINAL-URL:https://medina-mayurca.de
X-WR-CALDESC:Veranstaltungen für Medina Mayurca Schlaraffia (419)
REFRESH-INTERVAL;VALUE=DURATION:PT1H
X-Robots-Tag:noindex
X-PUBLISHED-TTL:PT1H
BEGIN:VTIMEZONE
TZID:Europe/Madrid
BEGIN:DAYLIGHT
TZOFFSETFROM:+0100
TZOFFSETTO:+0200
TZNAME:CEST
DTSTART:20230326T010000
END:DAYLIGHT
BEGIN:STANDARD
TZOFFSETFROM:+0200
TZOFFSETTO:+0100
TZNAME:CET
DTSTART:20231029T010000
END:STANDARD
BEGIN:DAYLIGHT
TZOFFSETFROM:+0100
TZOFFSETTO:+0200
TZNAME:CEST
DTSTART:20240331T010000
END:DAYLIGHT
BEGIN:STANDARD
TZOFFSETFROM:+0200
TZOFFSETTO:+0100
TZNAME:CET
DTSTART:20241027T010000
END:STANDARD
BEGIN:DAYLIGHT
TZOFFSETFROM:+0100
TZOFFSETTO:+0200
TZNAME:CEST
DTSTART:20250330T010000
END:DAYLIGHT
BEGIN:STANDARD
TZOFFSETFROM:+0200
TZOFFSETTO:+0100
TZNAME:CET
DTSTART:20251026T010000
END:STANDARD
END:VTIMEZONE
BEGIN:VEVENT
DTSTART;TZID=Europe/Madrid:20241001T190000
DTEND;TZID=Europe/Madrid:20241001T230000
DTSTAMP:20260423T010940
CREATED:20240903T083555Z
LAST-MODIFIED:20240929T114601Z
UID:10000012-1727809200-1727823600@medina-mayurca.de
SUMMARY:Schlaraffiade | Ich muss Euch was beichten (585)
DESCRIPTION:Sippung 585\nSchlaraffiade\nIch muss Euch was beichten
URL:https://medina-mayurca.de/event/schlaraffiade-ich-muss-euch-was-beichten-585/
LOCATION:Alcoraia Burg (MM-Burg)\, Diseminado es Gallicant 549\, Campos\, Illes Balears\, 07630\, Spain
CATEGORIES:Sippungen
ATTACH;FMTTYPE=image/png:https://medina-mayurca.de/wp-content/uploads/2024/09/wappen.png
GEO:39.395612;3.040641
X-APPLE-STRUCTURED-LOCATION;VALUE=URI;X-ADDRESS=Alcoraia Burg (MM-Burg) Diseminado es Gallicant 549 Campos Illes Balears 07630 Spain;X-APPLE-RADIUS=500;X-TITLE=Diseminado es Gallicant 549:geo:3.040641,39.395612
END:VEVENT
BEGIN:VEVENT
DTSTART;TZID=Europe/Madrid:20241005T110000
DTEND;TZID=Europe/Madrid:20241005T130000
DTSTAMP:20260423T010940
CREATED:20240904T150702Z
LAST-MODIFIED:20241102T094708Z
UID:10000049-1728126000-1728133200@medina-mayurca.de
SUMMARY:Krystalline / Stammtisch in Campos
DESCRIPTION:Stammtisch und ungezwungenes Treffen in der \nBar “Sa Granja Ses Voltes” auf dem Markt in Campos\nZwischen 11 bis 13 Uhr. \nGäste sind willkommen.\nSie erkennen den Schlaraffen-Tisch an dem Tischaufsteller mit dem Uhu.
URL:https://medina-mayurca.de/event/krystalline-stammtisch-in-campos/2024-10-05/
LOCATION:Bar “Sa Granja Ses Voltes” auf dem Markt in Campos\, Carrer de Plaça 12\, Campos\, Illes Balears\, 07630\, Spain
CATEGORIES:Krystalline
ATTACH;FMTTYPE=image/jpeg:https://medina-mayurca.de/wp-content/uploads/2024/09/Bar-Campos.jpg
GEO:39.4312323;3.0194673
X-APPLE-STRUCTURED-LOCATION;VALUE=URI;X-ADDRESS=Bar “Sa Granja Ses Voltes” auf dem Markt in Campos Carrer de Plaça 12 Campos Illes Balears 07630 Spain;X-APPLE-RADIUS=500;X-TITLE=Carrer de Plaça 12:geo:3.0194673,39.4312323
END:VEVENT
BEGIN:VEVENT
DTSTART;TZID=Europe/Madrid:20241008T190000
DTEND;TZID=Europe/Madrid:20241008T230000
DTSTAMP:20260423T010940
CREATED:20240903T094115Z
LAST-MODIFIED:20240929T114657Z
UID:10000013-1728414000-1728428400@medina-mayurca.de
SUMMARY:Aus dem eigenen goldenen Fechsungsbuch (586)
DESCRIPTION:Aus dem eigenen goldenen Fechsungsbuch
URL:https://medina-mayurca.de/event/aus-dem-eigenen-goldenen-fechsungsbuch-586/
LOCATION:Alcoraia Burg (MM-Burg)\, Diseminado es Gallicant 549\, Campos\, Illes Balears\, 07630\, Spain
CATEGORIES:Sippungen
ATTACH;FMTTYPE=image/png:https://medina-mayurca.de/wp-content/uploads/2024/09/wappen.png
GEO:39.395612;3.040641
X-APPLE-STRUCTURED-LOCATION;VALUE=URI;X-ADDRESS=Alcoraia Burg (MM-Burg) Diseminado es Gallicant 549 Campos Illes Balears 07630 Spain;X-APPLE-RADIUS=500;X-TITLE=Diseminado es Gallicant 549:geo:3.040641,39.395612
END:VEVENT
BEGIN:VEVENT
DTSTART;TZID=Europe/Madrid:20241012T110000
DTEND;TZID=Europe/Madrid:20241012T130000
DTSTAMP:20260423T010940
CREATED:20240904T150702Z
LAST-MODIFIED:20241102T094708Z
UID:10000050-1728730800-1728738000@medina-mayurca.de
SUMMARY:Krystalline / Stammtisch in Campos
DESCRIPTION:Stammtisch und ungezwungenes Treffen in der \nBar “Sa Granja Ses Voltes” auf dem Markt in Campos\nZwischen 11 bis 13 Uhr. \nGäste sind willkommen.\nSie erkennen den Schlaraffen-Tisch an dem Tischaufsteller mit dem Uhu.
URL:https://medina-mayurca.de/event/krystalline-stammtisch-in-campos/2024-10-12/
LOCATION:Bar “Sa Granja Ses Voltes” auf dem Markt in Campos\, Carrer de Plaça 12\, Campos\, Illes Balears\, 07630\, Spain
CATEGORIES:Krystalline
ATTACH;FMTTYPE=image/jpeg:https://medina-mayurca.de/wp-content/uploads/2024/09/Bar-Campos.jpg
GEO:39.4312323;3.0194673
X-APPLE-STRUCTURED-LOCATION;VALUE=URI;X-ADDRESS=Bar “Sa Granja Ses Voltes” auf dem Markt in Campos Carrer de Plaça 12 Campos Illes Balears 07630 Spain;X-APPLE-RADIUS=500;X-TITLE=Carrer de Plaça 12:geo:3.0194673,39.4312323
END:VEVENT
BEGIN:VEVENT
DTSTART;TZID=Europe/Madrid:20241015T190000
DTEND;TZID=Europe/Madrid:20241015T230000
DTSTAMP:20260423T010940
CREATED:20240903T094314Z
LAST-MODIFIED:20241013T051030Z
UID:10000014-1729018800-1729033200@medina-mayurca.de
SUMMARY:Schlaraffische Lieder (587)
DESCRIPTION:Schlaraffische Lieder
URL:https://medina-mayurca.de/event/schlaraffische-lieder-587/
LOCATION:Alcoraia Burg (MM-Burg)\, Diseminado es Gallicant 549\, Campos\, Illes Balears\, 07630\, Spain
CATEGORIES:Sippungen
ATTACH;FMTTYPE=image/jpeg:https://medina-mayurca.de/wp-content/uploads/2024/09/schlaraffische-lieder-e1728745677527.jpg
GEO:39.395612;3.040641
X-APPLE-STRUCTURED-LOCATION;VALUE=URI;X-ADDRESS=Alcoraia Burg (MM-Burg) Diseminado es Gallicant 549 Campos Illes Balears 07630 Spain;X-APPLE-RADIUS=500;X-TITLE=Diseminado es Gallicant 549:geo:3.040641,39.395612
END:VEVENT
BEGIN:VEVENT
DTSTART;TZID=Europe/Madrid:20241019T110000
DTEND;TZID=Europe/Madrid:20241019T130000
DTSTAMP:20260423T010940
CREATED:20240904T150702Z
LAST-MODIFIED:20241102T094708Z
UID:10000051-1729335600-1729342800@medina-mayurca.de
SUMMARY:Krystalline / Stammtisch in Campos
DESCRIPTION:Stammtisch und ungezwungenes Treffen in der \nBar “Sa Granja Ses Voltes” auf dem Markt in Campos\nZwischen 11 bis 13 Uhr. \nGäste sind willkommen.\nSie erkennen den Schlaraffen-Tisch an dem Tischaufsteller mit dem Uhu.
URL:https://medina-mayurca.de/event/krystalline-stammtisch-in-campos/2024-10-19/
LOCATION:Bar “Sa Granja Ses Voltes” auf dem Markt in Campos\, Carrer de Plaça 12\, Campos\, Illes Balears\, 07630\, Spain
CATEGORIES:Krystalline
ATTACH;FMTTYPE=image/jpeg:https://medina-mayurca.de/wp-content/uploads/2024/09/Bar-Campos.jpg
GEO:39.4312323;3.0194673
X-APPLE-STRUCTURED-LOCATION;VALUE=URI;X-ADDRESS=Bar “Sa Granja Ses Voltes” auf dem Markt in Campos Carrer de Plaça 12 Campos Illes Balears 07630 Spain;X-APPLE-RADIUS=500;X-TITLE=Carrer de Plaça 12:geo:3.0194673,39.4312323
END:VEVENT
BEGIN:VEVENT
DTSTART;TZID=Europe/Madrid:20241022T190000
DTEND;TZID=Europe/Madrid:20241022T230000
DTSTAMP:20260423T010940
CREATED:20240904T141625Z
LAST-MODIFIED:20241021T103844Z
UID:10000015-1729623600-1729638000@medina-mayurca.de
SUMMARY:Dialekt-Sippung (588)
DESCRIPTION:Atzung:\nSchinken-Kren-Aufstrich\nChampignoncremesuppe\nSchweinsbraten mit Sauerkraut und Semmelknödel\nGugelhupf
URL:https://medina-mayurca.de/event/dialekt-sippung-588/
LOCATION:Alcoraia Burg (MM-Burg)\, Diseminado es Gallicant 549\, Campos\, Illes Balears\, 07630\, Spain
CATEGORIES:Sippungen
ATTACH;FMTTYPE=image/jpeg:https://medina-mayurca.de/wp-content/uploads/2024/09/588.jpg
GEO:39.395612;3.040641
X-APPLE-STRUCTURED-LOCATION;VALUE=URI;X-ADDRESS=Alcoraia Burg (MM-Burg) Diseminado es Gallicant 549 Campos Illes Balears 07630 Spain;X-APPLE-RADIUS=500;X-TITLE=Diseminado es Gallicant 549:geo:3.040641,39.395612
END:VEVENT
BEGIN:VEVENT
DTSTART;TZID=Europe/Madrid:20241026T110000
DTEND;TZID=Europe/Madrid:20241026T130000
DTSTAMP:20260423T010940
CREATED:20240904T150702Z
LAST-MODIFIED:20241102T094708Z
UID:10000052-1729940400-1729947600@medina-mayurca.de
SUMMARY:Krystalline / Stammtisch in Campos
DESCRIPTION:Stammtisch und ungezwungenes Treffen in der \nBar “Sa Granja Ses Voltes” auf dem Markt in Campos\nZwischen 11 bis 13 Uhr. \nGäste sind willkommen.\nSie erkennen den Schlaraffen-Tisch an dem Tischaufsteller mit dem Uhu.
URL:https://medina-mayurca.de/event/krystalline-stammtisch-in-campos/2024-10-26/
LOCATION:Bar “Sa Granja Ses Voltes” auf dem Markt in Campos\, Carrer de Plaça 12\, Campos\, Illes Balears\, 07630\, Spain
CATEGORIES:Krystalline
ATTACH;FMTTYPE=image/jpeg:https://medina-mayurca.de/wp-content/uploads/2024/09/Bar-Campos.jpg
GEO:39.4312323;3.0194673
X-APPLE-STRUCTURED-LOCATION;VALUE=URI;X-ADDRESS=Bar “Sa Granja Ses Voltes” auf dem Markt in Campos Carrer de Plaça 12 Campos Illes Balears 07630 Spain;X-APPLE-RADIUS=500;X-TITLE=Carrer de Plaça 12:geo:3.0194673,39.4312323
END:VEVENT
BEGIN:VEVENT
DTSTART;TZID=Europe/Madrid:20241029T190000
DTEND;TZID=Europe/Madrid:20241029T230000
DTSTAMP:20260423T010940
CREATED:20240904T141844Z
LAST-MODIFIED:20241020T094215Z
UID:10000016-1730228400-1730242800@medina-mayurca.de
SUMMARY:Was kann Freundschaft? (589)
DESCRIPTION:
URL:https://medina-mayurca.de/event/was-kann-freundschaft-589/
LOCATION:Alcoraia Burg (MM-Burg)\, Diseminado es Gallicant 549\, Campos\, Illes Balears\, 07630\, Spain
CATEGORIES:Sippungen
ATTACH;FMTTYPE=image/jpeg:https://medina-mayurca.de/wp-content/uploads/2024/09/589.jpg
GEO:39.395612;3.040641
X-APPLE-STRUCTURED-LOCATION;VALUE=URI;X-ADDRESS=Alcoraia Burg (MM-Burg) Diseminado es Gallicant 549 Campos Illes Balears 07630 Spain;X-APPLE-RADIUS=500;X-TITLE=Diseminado es Gallicant 549:geo:3.040641,39.395612
END:VEVENT
END:VCALENDAR