BEGIN:VCALENDAR
VERSION:2.0
PRODID:-//Medina Mayurca Schlaraffia (419) - ECPv6.15.20//NONSGML v1.0//EN
CALSCALE:GREGORIAN
METHOD:PUBLISH
X-ORIGINAL-URL:https://medina-mayurca.de
X-WR-CALDESC:Veranstaltungen für Medina Mayurca Schlaraffia (419)
REFRESH-INTERVAL;VALUE=DURATION:PT1H
X-Robots-Tag:noindex
X-PUBLISHED-TTL:PT1H
BEGIN:VTIMEZONE
TZID:Europe/Madrid
BEGIN:DAYLIGHT
TZOFFSETFROM:+0100
TZOFFSETTO:+0200
TZNAME:CEST
DTSTART:20230326T010000
END:DAYLIGHT
BEGIN:STANDARD
TZOFFSETFROM:+0200
TZOFFSETTO:+0100
TZNAME:CET
DTSTART:20231029T010000
END:STANDARD
BEGIN:DAYLIGHT
TZOFFSETFROM:+0100
TZOFFSETTO:+0200
TZNAME:CEST
DTSTART:20240331T010000
END:DAYLIGHT
BEGIN:STANDARD
TZOFFSETFROM:+0200
TZOFFSETTO:+0100
TZNAME:CET
DTSTART:20241027T010000
END:STANDARD
BEGIN:DAYLIGHT
TZOFFSETFROM:+0100
TZOFFSETTO:+0200
TZNAME:CEST
DTSTART:20250330T010000
END:DAYLIGHT
BEGIN:STANDARD
TZOFFSETFROM:+0200
TZOFFSETTO:+0100
TZNAME:CET
DTSTART:20251026T010000
END:STANDARD
END:VTIMEZONE
BEGIN:VEVENT
DTSTART;TZID=Europe/Madrid:20241101T190000
DTEND;TZID=Europe/Madrid:20241101T230000
DTSTAMP:20260422T234441
CREATED:20240904T142031Z
LAST-MODIFIED:20241020T094300Z
UID:10000017-1730487600-1730502000@medina-mayurca.de
SUMMARY:Eynritt des hohen Reyches Guntia  (590)
DESCRIPTION:
URL:https://medina-mayurca.de/event/eynritt-des-hohen-reyches-guntia-590/
LOCATION:Alcoraia Burg (MM-Burg)\, Diseminado es Gallicant 549\, Campos\, Illes Balears\, 07630\, Spain
CATEGORIES:Sippungen
ATTACH;FMTTYPE=image/jpeg:https://medina-mayurca.de/wp-content/uploads/2024/09/590.jpg
GEO:39.395612;3.040641
X-APPLE-STRUCTURED-LOCATION;VALUE=URI;X-ADDRESS=Alcoraia Burg (MM-Burg) Diseminado es Gallicant 549 Campos Illes Balears 07630 Spain;X-APPLE-RADIUS=500;X-TITLE=Diseminado es Gallicant 549:geo:3.040641,39.395612
END:VEVENT
BEGIN:VEVENT
DTSTART;TZID=Europe/Madrid:20241102T110000
DTEND;TZID=Europe/Madrid:20241102T130000
DTSTAMP:20260422T234441
CREATED:20240904T150702Z
LAST-MODIFIED:20241102T094708Z
UID:10000053-1730545200-1730552400@medina-mayurca.de
SUMMARY:Krystalline / Stammtisch in Campos
DESCRIPTION:Stammtisch und ungezwungenes Treffen in der \nBar “Sa Granja Ses Voltes” auf dem Markt in Campos\nZwischen 11 bis 13 Uhr. \nGäste sind willkommen.\nSie erkennen den Schlaraffen-Tisch an dem Tischaufsteller mit dem Uhu.
URL:https://medina-mayurca.de/event/krystalline-stammtisch-in-campos/2024-11-02/
LOCATION:Bar “Sa Granja Ses Voltes” auf dem Markt in Campos\, Carrer de Plaça 12\, Campos\, Illes Balears\, 07630\, Spain
CATEGORIES:Krystalline
ATTACH;FMTTYPE=image/jpeg:https://medina-mayurca.de/wp-content/uploads/2024/09/Bar-Campos.jpg
GEO:39.4312323;3.0194673
X-APPLE-STRUCTURED-LOCATION;VALUE=URI;X-ADDRESS=Bar “Sa Granja Ses Voltes” auf dem Markt in Campos Carrer de Plaça 12 Campos Illes Balears 07630 Spain;X-APPLE-RADIUS=500;X-TITLE=Carrer de Plaça 12:geo:3.0194673,39.4312323
END:VEVENT
BEGIN:VEVENT
DTSTART;TZID=Europe/Madrid:20241105T190000
DTEND;TZID=Europe/Madrid:20241105T230000
DTSTAMP:20260422T234441
CREATED:20240904T142131Z
LAST-MODIFIED:20241020T094337Z
UID:10000018-1730833200-1730847600@medina-mayurca.de
SUMMARY:Schlaraffiade | „Da ist der Wurm drin!“ (591)
DESCRIPTION:
URL:https://medina-mayurca.de/event/schlaraffiade-da-ist-der-wurm-drin-591/
LOCATION:Alcoraia Burg (MM-Burg)\, Diseminado es Gallicant 549\, Campos\, Illes Balears\, 07630\, Spain
CATEGORIES:Sippungen
ATTACH;FMTTYPE=image/jpeg:https://medina-mayurca.de/wp-content/uploads/2024/09/591.jpg
GEO:39.395612;3.040641
X-APPLE-STRUCTURED-LOCATION;VALUE=URI;X-ADDRESS=Alcoraia Burg (MM-Burg) Diseminado es Gallicant 549 Campos Illes Balears 07630 Spain;X-APPLE-RADIUS=500;X-TITLE=Diseminado es Gallicant 549:geo:3.040641,39.395612
END:VEVENT
BEGIN:VEVENT
DTSTART;TZID=Europe/Madrid:20241109T110000
DTEND;TZID=Europe/Madrid:20241109T130000
DTSTAMP:20260422T234441
CREATED:20240904T150702Z
LAST-MODIFIED:20241102T094708Z
UID:10000054-1731150000-1731157200@medina-mayurca.de
SUMMARY:Krystalline / Stammtisch in Campos
DESCRIPTION:Stammtisch und ungezwungenes Treffen in der \nBar “Sa Granja Ses Voltes” auf dem Markt in Campos\nZwischen 11 bis 13 Uhr. \nGäste sind willkommen.\nSie erkennen den Schlaraffen-Tisch an dem Tischaufsteller mit dem Uhu.
URL:https://medina-mayurca.de/event/krystalline-stammtisch-in-campos/2024-11-09/
LOCATION:Bar “Sa Granja Ses Voltes” auf dem Markt in Campos\, Carrer de Plaça 12\, Campos\, Illes Balears\, 07630\, Spain
CATEGORIES:Krystalline
ATTACH;FMTTYPE=image/jpeg:https://medina-mayurca.de/wp-content/uploads/2024/09/Bar-Campos.jpg
GEO:39.4312323;3.0194673
X-APPLE-STRUCTURED-LOCATION;VALUE=URI;X-ADDRESS=Bar “Sa Granja Ses Voltes” auf dem Markt in Campos Carrer de Plaça 12 Campos Illes Balears 07630 Spain;X-APPLE-RADIUS=500;X-TITLE=Carrer de Plaça 12:geo:3.0194673,39.4312323
END:VEVENT
BEGIN:VEVENT
DTSTART;TZID=Europe/Madrid:20241112T190000
DTEND;TZID=Europe/Madrid:20241112T230000
DTSTAMP:20260422T234441
CREATED:20240904T142216Z
LAST-MODIFIED:20241020T094420Z
UID:10000019-1731438000-1731452400@medina-mayurca.de
SUMMARY:Ahalla-Feyer\, sag mir wo die Sassen sind (592)
DESCRIPTION:
URL:https://medina-mayurca.de/event/ahalla-feyer-sag-mir-wo-die-sassen-sind-592/
LOCATION:Alcoraia Burg (MM-Burg)\, Diseminado es Gallicant 549\, Campos\, Illes Balears\, 07630\, Spain
CATEGORIES:Sippungen
ATTACH;FMTTYPE=image/jpeg:https://medina-mayurca.de/wp-content/uploads/2024/09/592.jpg
GEO:39.395612;3.040641
X-APPLE-STRUCTURED-LOCATION;VALUE=URI;X-ADDRESS=Alcoraia Burg (MM-Burg) Diseminado es Gallicant 549 Campos Illes Balears 07630 Spain;X-APPLE-RADIUS=500;X-TITLE=Diseminado es Gallicant 549:geo:3.040641,39.395612
END:VEVENT
BEGIN:VEVENT
DTSTART;TZID=Europe/Madrid:20241116T110000
DTEND;TZID=Europe/Madrid:20241116T130000
DTSTAMP:20260422T234441
CREATED:20240904T150702Z
LAST-MODIFIED:20241102T094708Z
UID:10000055-1731754800-1731762000@medina-mayurca.de
SUMMARY:Krystalline / Stammtisch in Campos
DESCRIPTION:Stammtisch und ungezwungenes Treffen in der \nBar “Sa Granja Ses Voltes” auf dem Markt in Campos\nZwischen 11 bis 13 Uhr. \nGäste sind willkommen.\nSie erkennen den Schlaraffen-Tisch an dem Tischaufsteller mit dem Uhu.
URL:https://medina-mayurca.de/event/krystalline-stammtisch-in-campos/2024-11-16/
LOCATION:Bar “Sa Granja Ses Voltes” auf dem Markt in Campos\, Carrer de Plaça 12\, Campos\, Illes Balears\, 07630\, Spain
CATEGORIES:Krystalline
ATTACH;FMTTYPE=image/jpeg:https://medina-mayurca.de/wp-content/uploads/2024/09/Bar-Campos.jpg
GEO:39.4312323;3.0194673
X-APPLE-STRUCTURED-LOCATION;VALUE=URI;X-ADDRESS=Bar “Sa Granja Ses Voltes” auf dem Markt in Campos Carrer de Plaça 12 Campos Illes Balears 07630 Spain;X-APPLE-RADIUS=500;X-TITLE=Carrer de Plaça 12:geo:3.0194673,39.4312323
END:VEVENT
BEGIN:VEVENT
DTSTART;TZID=Europe/Madrid:20241119T190000
DTEND;TZID=Europe/Madrid:20241119T230000
DTSTAMP:20260422T234441
CREATED:20240904T142258Z
LAST-MODIFIED:20241020T094547Z
UID:10000020-1732042800-1732057200@medina-mayurca.de
SUMMARY:Weisheits\,-steile und Giftzähne (593)
DESCRIPTION:
URL:https://medina-mayurca.de/event/weisheits-steile-und-giftzaehne-593/
LOCATION:Alcoraia Burg (MM-Burg)\, Diseminado es Gallicant 549\, Campos\, Illes Balears\, 07630\, Spain
CATEGORIES:Sippungen
ATTACH;FMTTYPE=image/jpeg:https://medina-mayurca.de/wp-content/uploads/2024/09/593.jpg
GEO:39.395612;3.040641
X-APPLE-STRUCTURED-LOCATION;VALUE=URI;X-ADDRESS=Alcoraia Burg (MM-Burg) Diseminado es Gallicant 549 Campos Illes Balears 07630 Spain;X-APPLE-RADIUS=500;X-TITLE=Diseminado es Gallicant 549:geo:3.040641,39.395612
END:VEVENT
BEGIN:VEVENT
DTSTART;TZID=Europe/Madrid:20241123T110000
DTEND;TZID=Europe/Madrid:20241123T140000
DTSTAMP:20260422T234441
CREATED:20241120T150730Z
LAST-MODIFIED:20241120T151205Z
UID:10000317-1732359600-1732370400@medina-mayurca.de
SUMMARY:Krystaline / Stammtisch bei Algaida
DESCRIPTION:Stammtisch und ungezwungenes Treffen im \nChâteau Vino de la Isla in der Nähe von Algaida.\nSie finden das Château an der Autobahn MA-15 bei Ausfahrt 20.\nDas Gebäude ist nicht zu übersehen. \nZwischen 11 bis 14 Uhr. \nGäste sind willkommen.\nSie erkennen den Schlaraffen-Tisch an dem Tischaufsteller mit dem Uhu.
URL:https://medina-mayurca.de/event/krystaline-stammtisch-bei-algaida/
LOCATION:Château  Vino de la Isla\, Ma-15 Salida 20\, Algaida\, Illes Balears\, 07210\, Spain
CATEGORIES:Krystalline
ATTACH;FMTTYPE=image/jpeg:https://medina-mayurca.de/wp-content/uploads/2024/11/vinoburg.jpg
GEO:39.5693937;2.8804938
X-APPLE-STRUCTURED-LOCATION;VALUE=URI;X-ADDRESS=Château  Vino de la Isla Ma-15 Salida 20 Algaida Illes Balears 07210 Spain;X-APPLE-RADIUS=500;X-TITLE=Ma-15 Salida 20:geo:2.8804938,39.5693937
END:VEVENT
BEGIN:VEVENT
DTSTART;TZID=Europe/Madrid:20241125T170000
DTEND;TZID=Europe/Madrid:20241125T200000
DTSTAMP:20260422T234441
CREATED:20240904T142428Z
LAST-MODIFIED:20241118T214221Z
UID:10000021-1732554000-1732564800@medina-mayurca.de
SUMMARY:Profane Dichterlesung
DESCRIPTION:
URL:https://medina-mayurca.de/event/profane-dichterlesung/
LOCATION:Alcoraia Burg (MM-Burg)\, Diseminado es Gallicant 549\, Campos\, Illes Balears\, 07630\, Spain
CATEGORIES:Veranstaltung
ATTACH;FMTTYPE=image/jpeg:https://medina-mayurca.de/wp-content/uploads/2024/09/dichterlesung.jpg
GEO:39.395612;3.040641
X-APPLE-STRUCTURED-LOCATION;VALUE=URI;X-ADDRESS=Alcoraia Burg (MM-Burg) Diseminado es Gallicant 549 Campos Illes Balears 07630 Spain;X-APPLE-RADIUS=500;X-TITLE=Diseminado es Gallicant 549:geo:3.040641,39.395612
END:VEVENT
BEGIN:VEVENT
DTSTART;TZID=Europe/Madrid:20241126T190000
DTEND;TZID=Europe/Madrid:20241126T230000
DTSTAMP:20260422T234441
CREATED:20240904T142506Z
LAST-MODIFIED:20241020T094628Z
UID:10000022-1732647600-1732662000@medina-mayurca.de
SUMMARY:Turney: 2. Schlaraffische Dichterlesung (594)
DESCRIPTION:
URL:https://medina-mayurca.de/event/turney-2-schlaraffische-dichterlesung-594/
LOCATION:Alcoraia Burg (MM-Burg)\, Diseminado es Gallicant 549\, Campos\, Illes Balears\, 07630\, Spain
CATEGORIES:Sippungen
ATTACH;FMTTYPE=image/jpeg:https://medina-mayurca.de/wp-content/uploads/2024/09/594.jpg
GEO:39.395612;3.040641
X-APPLE-STRUCTURED-LOCATION;VALUE=URI;X-ADDRESS=Alcoraia Burg (MM-Burg) Diseminado es Gallicant 549 Campos Illes Balears 07630 Spain;X-APPLE-RADIUS=500;X-TITLE=Diseminado es Gallicant 549:geo:3.040641,39.395612
END:VEVENT
END:VCALENDAR