BEGIN:VCALENDAR
VERSION:2.0
PRODID:-//Medina Mayurca Schlaraffia (419) - ECPv6.15.20//NONSGML v1.0//EN
CALSCALE:GREGORIAN
METHOD:PUBLISH
X-WR-CALNAME:Medina Mayurca Schlaraffia (419)
X-ORIGINAL-URL:https://medina-mayurca.de
X-WR-CALDESC:Veranstaltungen für Medina Mayurca Schlaraffia (419)
REFRESH-INTERVAL;VALUE=DURATION:PT1H
X-Robots-Tag:noindex
X-PUBLISHED-TTL:PT1H
BEGIN:VTIMEZONE
TZID:Europe/Madrid
BEGIN:DAYLIGHT
TZOFFSETFROM:+0100
TZOFFSETTO:+0200
TZNAME:CEST
DTSTART:20240331T010000
END:DAYLIGHT
BEGIN:STANDARD
TZOFFSETFROM:+0200
TZOFFSETTO:+0100
TZNAME:CET
DTSTART:20241027T010000
END:STANDARD
BEGIN:DAYLIGHT
TZOFFSETFROM:+0100
TZOFFSETTO:+0200
TZNAME:CEST
DTSTART:20250330T010000
END:DAYLIGHT
BEGIN:STANDARD
TZOFFSETFROM:+0200
TZOFFSETTO:+0100
TZNAME:CET
DTSTART:20251026T010000
END:STANDARD
BEGIN:DAYLIGHT
TZOFFSETFROM:+0100
TZOFFSETTO:+0200
TZNAME:CEST
DTSTART:20260329T010000
END:DAYLIGHT
BEGIN:STANDARD
TZOFFSETFROM:+0200
TZOFFSETTO:+0100
TZNAME:CET
DTSTART:20261025T010000
END:STANDARD
END:VTIMEZONE
BEGIN:VEVENT
DTSTART;TZID=Europe/Madrid:20250107T190000
DTEND;TZID=Europe/Madrid:20250107T230000
DTSTAMP:20260422T202058
CREATED:20240904T142943Z
LAST-MODIFIED:20241020T100620Z
UID:10000026-1736276400-1736290800@medina-mayurca.de
SUMMARY:Schlaraffiade “ Alles bleibt besser!“ (598)
DESCRIPTION:
URL:https://medina-mayurca.de/event/schlaraffiade-alles-bleibt-besser-598/
LOCATION:Alcoraia Burg (MM-Burg)\, Diseminado es Gallicant 549\, Campos\, Illes Balears\, 07630\, Spain
CATEGORIES:Sippungen
ATTACH;FMTTYPE=image/jpeg:https://medina-mayurca.de/wp-content/uploads/2024/09/598.jpg
GEO:39.395612;3.040641
X-APPLE-STRUCTURED-LOCATION;VALUE=URI;X-ADDRESS=Alcoraia Burg (MM-Burg) Diseminado es Gallicant 549 Campos Illes Balears 07630 Spain;X-APPLE-RADIUS=500;X-TITLE=Diseminado es Gallicant 549:geo:3.040641,39.395612
END:VEVENT
BEGIN:VEVENT
DTSTART;TZID=Europe/Madrid:20250111T110000
DTEND;TZID=Europe/Madrid:20250111T140000
DTSTAMP:20260422T202058
CREATED:20241215T164713Z
LAST-MODIFIED:20250108T140557Z
UID:10000560-1736593200-1736604000@medina-mayurca.de
SUMMARY:Stammtisch der Medina Mayurca
DESCRIPTION:ir treffen uns jeden Samstag zum Kristalline-Stammtisch um 11 Uhr\nMal hier und mal da. \nIhr wollt uns besuchen? Rt. Na Servas gibt Auskunft über den aktuellen Ort unter na-servas@medina-mayurca.de
URL:https://medina-mayurca.de/event/stammtisch-der-medina-mayurca/2025-01-11/
LOCATION:Illes Balears
CATEGORIES:Krystalline
ATTACH;FMTTYPE=image/jpeg:https://medina-mayurca.de/wp-content/uploads/2024/12/Stammtisch.jpg
END:VEVENT
BEGIN:VEVENT
DTSTART;TZID=Europe/Madrid:20250114T190000
DTEND;TZID=Europe/Madrid:20250114T230000
DTSTAMP:20260422T202058
CREATED:20240904T143025Z
LAST-MODIFIED:20241020T100539Z
UID:10000027-1736881200-1736895600@medina-mayurca.de
SUMMARY:Bockelmann und Neumayer/Musici-Sippung (599)
DESCRIPTION:
URL:https://medina-mayurca.de/event/bockelmann-und-neumayer-musici-sippung-599/
LOCATION:Alcoraia Burg (MM-Burg)\, Diseminado es Gallicant 549\, Campos\, Illes Balears\, 07630\, Spain
CATEGORIES:Sippungen
ATTACH;FMTTYPE=image/jpeg:https://medina-mayurca.de/wp-content/uploads/2024/09/599.jpg
GEO:39.395612;3.040641
X-APPLE-STRUCTURED-LOCATION;VALUE=URI;X-ADDRESS=Alcoraia Burg (MM-Burg) Diseminado es Gallicant 549 Campos Illes Balears 07630 Spain;X-APPLE-RADIUS=500;X-TITLE=Diseminado es Gallicant 549:geo:3.040641,39.395612
END:VEVENT
BEGIN:VEVENT
DTSTART;TZID=Europe/Madrid:20250118T110000
DTEND;TZID=Europe/Madrid:20250118T140000
DTSTAMP:20260422T202058
CREATED:20241215T164713Z
LAST-MODIFIED:20250108T140557Z
UID:10000478-1737198000-1737208800@medina-mayurca.de
SUMMARY:Stammtisch der Medina Mayurca
DESCRIPTION:ir treffen uns jeden Samstag zum Kristalline-Stammtisch um 11 Uhr\nMal hier und mal da. \nIhr wollt uns besuchen? Rt. Na Servas gibt Auskunft über den aktuellen Ort unter na-servas@medina-mayurca.de
URL:https://medina-mayurca.de/event/stammtisch-der-medina-mayurca/2025-01-18/
LOCATION:Illes Balears
CATEGORIES:Krystalline
ATTACH;FMTTYPE=image/jpeg:https://medina-mayurca.de/wp-content/uploads/2024/12/Stammtisch.jpg
END:VEVENT
BEGIN:VEVENT
DTSTART;TZID=Europe/Madrid:20250121T190000
DTEND;TZID=Europe/Madrid:20250121T230000
DTSTAMP:20260422T202058
CREATED:20240904T143106Z
LAST-MODIFIED:20241020T094919Z
UID:10000028-1737486000-1737500400@medina-mayurca.de
SUMMARY:Ganz-Anders-Sippung (600)
DESCRIPTION:
URL:https://medina-mayurca.de/event/ganz-anders-sippung-600/
LOCATION:Alcoraia Burg (MM-Burg)\, Diseminado es Gallicant 549\, Campos\, Illes Balears\, 07630\, Spain
CATEGORIES:Sippungen
ATTACH;FMTTYPE=image/jpeg:https://medina-mayurca.de/wp-content/uploads/2024/09/600.jpg
GEO:39.395612;3.040641
X-APPLE-STRUCTURED-LOCATION;VALUE=URI;X-ADDRESS=Alcoraia Burg (MM-Burg) Diseminado es Gallicant 549 Campos Illes Balears 07630 Spain;X-APPLE-RADIUS=500;X-TITLE=Diseminado es Gallicant 549:geo:3.040641,39.395612
END:VEVENT
BEGIN:VEVENT
DTSTART;TZID=Europe/Madrid:20250125T110000
DTEND;TZID=Europe/Madrid:20250125T140000
DTSTAMP:20260422T202058
CREATED:20241215T164713Z
LAST-MODIFIED:20250108T140557Z
UID:10000479-1737802800-1737813600@medina-mayurca.de
SUMMARY:Stammtisch der Medina Mayurca
DESCRIPTION:ir treffen uns jeden Samstag zum Kristalline-Stammtisch um 11 Uhr\nMal hier und mal da. \nIhr wollt uns besuchen? Rt. Na Servas gibt Auskunft über den aktuellen Ort unter na-servas@medina-mayurca.de
URL:https://medina-mayurca.de/event/stammtisch-der-medina-mayurca/2025-01-25/
LOCATION:Illes Balears
CATEGORIES:Krystalline
ATTACH;FMTTYPE=image/jpeg:https://medina-mayurca.de/wp-content/uploads/2024/12/Stammtisch.jpg
END:VEVENT
BEGIN:VEVENT
DTSTART;TZID=Europe/Madrid:20250128T190000
DTEND;TZID=Europe/Madrid:20250128T230000
DTSTAMP:20260422T202058
CREATED:20240904T143148Z
LAST-MODIFIED:20241020T100506Z
UID:10000029-1738090800-1738105200@medina-mayurca.de
SUMMARY:Was alles aus der Dose kommt (601)
DESCRIPTION:
URL:https://medina-mayurca.de/event/was-alles-aus-der-dose-kommt-601/
LOCATION:Alcoraia Burg (MM-Burg)\, Diseminado es Gallicant 549\, Campos\, Illes Balears\, 07630\, Spain
CATEGORIES:Sippungen
ATTACH;FMTTYPE=image/jpeg:https://medina-mayurca.de/wp-content/uploads/2024/09/601.jpg
GEO:39.395612;3.040641
X-APPLE-STRUCTURED-LOCATION;VALUE=URI;X-ADDRESS=Alcoraia Burg (MM-Burg) Diseminado es Gallicant 549 Campos Illes Balears 07630 Spain;X-APPLE-RADIUS=500;X-TITLE=Diseminado es Gallicant 549:geo:3.040641,39.395612
END:VEVENT
END:VCALENDAR