BEGIN:VCALENDAR
VERSION:2.0
PRODID:-//Medina Mayurca Schlaraffia (419) - ECPv6.15.20//NONSGML v1.0//EN
CALSCALE:GREGORIAN
METHOD:PUBLISH
X-WR-CALNAME:Medina Mayurca Schlaraffia (419)
X-ORIGINAL-URL:https://medina-mayurca.de
X-WR-CALDESC:Veranstaltungen für Medina Mayurca Schlaraffia (419)
REFRESH-INTERVAL;VALUE=DURATION:PT1H
X-Robots-Tag:noindex
X-PUBLISHED-TTL:PT1H
BEGIN:VTIMEZONE
TZID:Europe/Madrid
BEGIN:DAYLIGHT
TZOFFSETFROM:+0100
TZOFFSETTO:+0200
TZNAME:CEST
DTSTART:20240331T010000
END:DAYLIGHT
BEGIN:STANDARD
TZOFFSETFROM:+0200
TZOFFSETTO:+0100
TZNAME:CET
DTSTART:20241027T010000
END:STANDARD
BEGIN:DAYLIGHT
TZOFFSETFROM:+0100
TZOFFSETTO:+0200
TZNAME:CEST
DTSTART:20250330T010000
END:DAYLIGHT
BEGIN:STANDARD
TZOFFSETFROM:+0200
TZOFFSETTO:+0100
TZNAME:CET
DTSTART:20251026T010000
END:STANDARD
BEGIN:DAYLIGHT
TZOFFSETFROM:+0100
TZOFFSETTO:+0200
TZNAME:CEST
DTSTART:20260329T010000
END:DAYLIGHT
BEGIN:STANDARD
TZOFFSETFROM:+0200
TZOFFSETTO:+0100
TZNAME:CET
DTSTART:20261025T010000
END:STANDARD
END:VTIMEZONE
BEGIN:VEVENT
DTSTART;TZID=Europe/Madrid:20250201T110000
DTEND;TZID=Europe/Madrid:20250201T140000
DTSTAMP:20260422T202036
CREATED:20241215T164713Z
LAST-MODIFIED:20250108T140557Z
UID:10000480-1738407600-1738418400@medina-mayurca.de
SUMMARY:Stammtisch der Medina Mayurca
DESCRIPTION:ir treffen uns jeden Samstag zum Kristalline-Stammtisch um 11 Uhr\nMal hier und mal da. \nIhr wollt uns besuchen? Rt. Na Servas gibt Auskunft über den aktuellen Ort unter na-servas@medina-mayurca.de
URL:https://medina-mayurca.de/event/stammtisch-der-medina-mayurca/2025-02-01/
LOCATION:Illes Balears
CATEGORIES:Krystalline
ATTACH;FMTTYPE=image/jpeg:https://medina-mayurca.de/wp-content/uploads/2024/12/Stammtisch.jpg
END:VEVENT
BEGIN:VEVENT
DTSTART;TZID=Europe/Madrid:20250204T080000
DTEND;TZID=Europe/Madrid:20250204T170000
DTSTAMP:20260422T202036
CREATED:20240904T143251Z
LAST-MODIFIED:20241020T100435Z
UID:10000030-1738656000-1738688400@medina-mayurca.de
SUMMARY:Schlaraffiade | Gestern-heute-morgen (602)
DESCRIPTION:
URL:https://medina-mayurca.de/event/schlaraffiade-gestern-heute-morgen-602/
LOCATION:Alcoraia Burg (MM-Burg)\, Diseminado es Gallicant 549\, Campos\, Illes Balears\, 07630\, Spain
CATEGORIES:Sippungen
ATTACH;FMTTYPE=image/jpeg:https://medina-mayurca.de/wp-content/uploads/2024/09/602.jpg
GEO:39.395612;3.040641
X-APPLE-STRUCTURED-LOCATION;VALUE=URI;X-ADDRESS=Alcoraia Burg (MM-Burg) Diseminado es Gallicant 549 Campos Illes Balears 07630 Spain;X-APPLE-RADIUS=500;X-TITLE=Diseminado es Gallicant 549:geo:3.040641,39.395612
END:VEVENT
BEGIN:VEVENT
DTSTART;TZID=Europe/Madrid:20250208T110000
DTEND;TZID=Europe/Madrid:20250208T140000
DTSTAMP:20260422T202036
CREATED:20241215T164713Z
LAST-MODIFIED:20250108T140557Z
UID:10000481-1739012400-1739023200@medina-mayurca.de
SUMMARY:Stammtisch der Medina Mayurca
DESCRIPTION:ir treffen uns jeden Samstag zum Kristalline-Stammtisch um 11 Uhr\nMal hier und mal da. \nIhr wollt uns besuchen? Rt. Na Servas gibt Auskunft über den aktuellen Ort unter na-servas@medina-mayurca.de
URL:https://medina-mayurca.de/event/stammtisch-der-medina-mayurca/2025-02-08/
LOCATION:Illes Balears
CATEGORIES:Krystalline
ATTACH;FMTTYPE=image/jpeg:https://medina-mayurca.de/wp-content/uploads/2024/12/Stammtisch.jpg
END:VEVENT
BEGIN:VEVENT
DTSTART;TZID=Europe/Madrid:20250211T190000
DTEND;TZID=Europe/Madrid:20250211T230000
DTSTAMP:20260422T202036
CREATED:20240904T143328Z
LAST-MODIFIED:20241020T100352Z
UID:10000031-1739300400-1739314800@medina-mayurca.de
SUMMARY:Opernball (603)
DESCRIPTION:
URL:https://medina-mayurca.de/event/opernball-603/
LOCATION:Alcoraia Burg (MM-Burg)\, Diseminado es Gallicant 549\, Campos\, Illes Balears\, 07630\, Spain
CATEGORIES:Sippungen
ATTACH;FMTTYPE=image/jpeg:https://medina-mayurca.de/wp-content/uploads/2024/09/603.jpg
GEO:39.395612;3.040641
X-APPLE-STRUCTURED-LOCATION;VALUE=URI;X-ADDRESS=Alcoraia Burg (MM-Burg) Diseminado es Gallicant 549 Campos Illes Balears 07630 Spain;X-APPLE-RADIUS=500;X-TITLE=Diseminado es Gallicant 549:geo:3.040641,39.395612
END:VEVENT
BEGIN:VEVENT
DTSTART;TZID=Europe/Madrid:20250215T110000
DTEND;TZID=Europe/Madrid:20250215T140000
DTSTAMP:20260422T202036
CREATED:20241215T164713Z
LAST-MODIFIED:20250108T140557Z
UID:10000482-1739617200-1739628000@medina-mayurca.de
SUMMARY:Stammtisch der Medina Mayurca
DESCRIPTION:ir treffen uns jeden Samstag zum Kristalline-Stammtisch um 11 Uhr\nMal hier und mal da. \nIhr wollt uns besuchen? Rt. Na Servas gibt Auskunft über den aktuellen Ort unter na-servas@medina-mayurca.de
URL:https://medina-mayurca.de/event/stammtisch-der-medina-mayurca/2025-02-15/
LOCATION:Illes Balears
CATEGORIES:Krystalline
ATTACH;FMTTYPE=image/jpeg:https://medina-mayurca.de/wp-content/uploads/2024/12/Stammtisch.jpg
END:VEVENT
BEGIN:VEVENT
DTSTART;TZID=Europe/Madrid:20250218T190000
DTEND;TZID=Europe/Madrid:20250218T230000
DTSTAMP:20260422T202036
CREATED:20240904T143431Z
LAST-MODIFIED:20241020T100313Z
UID:10000032-1739905200-1739919600@medina-mayurca.de
SUMMARY:Vive la T*rance (604)
DESCRIPTION:
URL:https://medina-mayurca.de/event/vive-la-trance-604/
LOCATION:Alcoraia Burg (MM-Burg)\, Diseminado es Gallicant 549\, Campos\, Illes Balears\, 07630\, Spain
CATEGORIES:Sippungen
ATTACH;FMTTYPE=image/jpeg:https://medina-mayurca.de/wp-content/uploads/2024/09/604.jpg
GEO:39.395612;3.040641
X-APPLE-STRUCTURED-LOCATION;VALUE=URI;X-ADDRESS=Alcoraia Burg (MM-Burg) Diseminado es Gallicant 549 Campos Illes Balears 07630 Spain;X-APPLE-RADIUS=500;X-TITLE=Diseminado es Gallicant 549:geo:3.040641,39.395612
END:VEVENT
BEGIN:VEVENT
DTSTART;TZID=Europe/Madrid:20250222T110000
DTEND;TZID=Europe/Madrid:20250222T140000
DTSTAMP:20260422T202036
CREATED:20241215T164713Z
LAST-MODIFIED:20250108T140557Z
UID:10000483-1740222000-1740232800@medina-mayurca.de
SUMMARY:Stammtisch der Medina Mayurca
DESCRIPTION:ir treffen uns jeden Samstag zum Kristalline-Stammtisch um 11 Uhr\nMal hier und mal da. \nIhr wollt uns besuchen? Rt. Na Servas gibt Auskunft über den aktuellen Ort unter na-servas@medina-mayurca.de
URL:https://medina-mayurca.de/event/stammtisch-der-medina-mayurca/2025-02-22/
LOCATION:Illes Balears
CATEGORIES:Krystalline
ATTACH;FMTTYPE=image/jpeg:https://medina-mayurca.de/wp-content/uploads/2024/12/Stammtisch.jpg
END:VEVENT
BEGIN:VEVENT
DTSTART;TZID=Europe/Madrid:20250225T190000
DTEND;TZID=Europe/Madrid:20250225T230000
DTSTAMP:20260422T202036
CREATED:20240904T143507Z
LAST-MODIFIED:20241020T100240Z
UID:10000033-1740510000-1740524400@medina-mayurca.de
SUMMARY:Aus Mandeln gemacht (605)
DESCRIPTION:
URL:https://medina-mayurca.de/event/aus-mandeln-gemacht-605/
LOCATION:Alcoraia Burg (MM-Burg)\, Diseminado es Gallicant 549\, Campos\, Illes Balears\, 07630\, Spain
CATEGORIES:Sippungen
ATTACH;FMTTYPE=image/jpeg:https://medina-mayurca.de/wp-content/uploads/2024/09/605.jpg
GEO:39.395612;3.040641
X-APPLE-STRUCTURED-LOCATION;VALUE=URI;X-ADDRESS=Alcoraia Burg (MM-Burg) Diseminado es Gallicant 549 Campos Illes Balears 07630 Spain;X-APPLE-RADIUS=500;X-TITLE=Diseminado es Gallicant 549:geo:3.040641,39.395612
END:VEVENT
END:VCALENDAR