BEGIN:VCALENDAR
VERSION:2.0
PRODID:-//Medina Mayurca Schlaraffia (419) - ECPv6.15.20//NONSGML v1.0//EN
CALSCALE:GREGORIAN
METHOD:PUBLISH
X-ORIGINAL-URL:https://medina-mayurca.de
X-WR-CALDESC:Veranstaltungen für Medina Mayurca Schlaraffia (419)
REFRESH-INTERVAL;VALUE=DURATION:PT1H
X-Robots-Tag:noindex
X-PUBLISHED-TTL:PT1H
BEGIN:VTIMEZONE
TZID:Europe/Madrid
BEGIN:DAYLIGHT
TZOFFSETFROM:+0100
TZOFFSETTO:+0200
TZNAME:CEST
DTSTART:20240331T010000
END:DAYLIGHT
BEGIN:STANDARD
TZOFFSETFROM:+0200
TZOFFSETTO:+0100
TZNAME:CET
DTSTART:20241027T010000
END:STANDARD
BEGIN:DAYLIGHT
TZOFFSETFROM:+0100
TZOFFSETTO:+0200
TZNAME:CEST
DTSTART:20250330T010000
END:DAYLIGHT
BEGIN:STANDARD
TZOFFSETFROM:+0200
TZOFFSETTO:+0100
TZNAME:CET
DTSTART:20251026T010000
END:STANDARD
BEGIN:DAYLIGHT
TZOFFSETFROM:+0100
TZOFFSETTO:+0200
TZNAME:CEST
DTSTART:20260329T010000
END:DAYLIGHT
BEGIN:STANDARD
TZOFFSETFROM:+0200
TZOFFSETTO:+0100
TZNAME:CET
DTSTART:20261025T010000
END:STANDARD
END:VTIMEZONE
BEGIN:VEVENT
DTSTART;TZID=Europe/Madrid:20250401T080000
DTEND;TZID=Europe/Madrid:20250401T170000
DTSTAMP:20260422T153629
CREATED:20240904T144106Z
LAST-MODIFIED:20241020T095704Z
UID:10000039-1743494400-1743526800@medina-mayurca.de
SUMMARY:Schlaraffiade | „Ein Kuckucks-Ei? (610)
DESCRIPTION:
URL:https://medina-mayurca.de/event/schlaraffiade-ein-kuckucks-ei-610/
LOCATION:Alcoraia Burg (MM-Burg)\, Diseminado es Gallicant 549\, Campos\, Illes Balears\, 07630\, Spain
CATEGORIES:Sippungen
ATTACH;FMTTYPE=image/jpeg:https://medina-mayurca.de/wp-content/uploads/2024/09/610.jpg
GEO:39.395612;3.040641
X-APPLE-STRUCTURED-LOCATION;VALUE=URI;X-ADDRESS=Alcoraia Burg (MM-Burg) Diseminado es Gallicant 549 Campos Illes Balears 07630 Spain;X-APPLE-RADIUS=500;X-TITLE=Diseminado es Gallicant 549:geo:3.040641,39.395612
END:VEVENT
BEGIN:VEVENT
DTSTART;VALUE=DATE:20250405
DTEND;VALUE=DATE:20250406
DTSTAMP:20260422T153629
CREATED:20241215T163612Z
LAST-MODIFIED:20241215T163745Z
UID:10000319-1743811200-1743897599@medina-mayurca.de
SUMMARY:Ausritt zur IFS nach Barcelona
DESCRIPTION:Wir reyten zur Iberischen Freundschaftssippung in das hohe Reych \nBarcelonensia \nund starten danach nahtlos unseren Reychsausritt nach Tyrol
URL:https://medina-mayurca.de/event/ausritt-zur-iberischen-freundschaftssippung/
LOCATION:Barcelonensia (366)\, Sant Cugat del Vallès\, Barcelona\, 08173\, Spain
CATEGORIES:Sippungen
ATTACH;FMTTYPE=image/jpeg:https://medina-mayurca.de/wp-content/uploads/2024/12/IFS.jpg
GEO:41.4792616;2.0770981
END:VEVENT
BEGIN:VEVENT
DTSTART;TZID=Europe/Madrid:20250405T110000
DTEND;TZID=Europe/Madrid:20250405T140000
DTSTAMP:20260422T153629
CREATED:20241215T164713Z
LAST-MODIFIED:20250108T140557Z
UID:10000489-1743850800-1743861600@medina-mayurca.de
SUMMARY:Stammtisch der Medina Mayurca
DESCRIPTION:ir treffen uns jeden Samstag zum Kristalline-Stammtisch um 11 Uhr\nMal hier und mal da. \nIhr wollt uns besuchen? Rt. Na Servas gibt Auskunft über den aktuellen Ort unter na-servas@medina-mayurca.de
URL:https://medina-mayurca.de/event/stammtisch-der-medina-mayurca/2025-04-05/
LOCATION:Illes Balears
CATEGORIES:Krystalline
ATTACH;FMTTYPE=image/jpeg:https://medina-mayurca.de/wp-content/uploads/2024/12/Stammtisch.jpg
END:VEVENT
BEGIN:VEVENT
DTSTART;VALUE=DATE:20250408
DTEND;VALUE=DATE:20250409
DTSTAMP:20260422T153629
CREATED:20240904T144221Z
LAST-MODIFIED:20241020T095635Z
UID:10000040-1744070400-1744156799@medina-mayurca.de
SUMMARY:Reychsausritt Tyrol\, Burg geschlossen
DESCRIPTION:Wir reiten gen Tyrol.\nDeshalb bleibt die Burg heute geschlossen.
URL:https://medina-mayurca.de/event/reychsausritt-tyrol-burg-geschlossen/
LOCATION:Alcoraia Burg (MM-Burg)\, Diseminado es Gallicant 549\, Campos\, Illes Balears\, 07630\, Spain
ATTACH;FMTTYPE=image/jpeg:https://medina-mayurca.de/wp-content/uploads/2024/09/burgzu.jpg
GEO:39.395612;3.040641
X-APPLE-STRUCTURED-LOCATION;VALUE=URI;X-ADDRESS=Alcoraia Burg (MM-Burg) Diseminado es Gallicant 549 Campos Illes Balears 07630 Spain;X-APPLE-RADIUS=500;X-TITLE=Diseminado es Gallicant 549:geo:3.040641,39.395612
END:VEVENT
BEGIN:VEVENT
DTSTART;TZID=Europe/Madrid:20250412T110000
DTEND;TZID=Europe/Madrid:20250412T140000
DTSTAMP:20260422T153629
CREATED:20241215T164713Z
LAST-MODIFIED:20250108T140557Z
UID:10000490-1744455600-1744466400@medina-mayurca.de
SUMMARY:Stammtisch der Medina Mayurca
DESCRIPTION:ir treffen uns jeden Samstag zum Kristalline-Stammtisch um 11 Uhr\nMal hier und mal da. \nIhr wollt uns besuchen? Rt. Na Servas gibt Auskunft über den aktuellen Ort unter na-servas@medina-mayurca.de
URL:https://medina-mayurca.de/event/stammtisch-der-medina-mayurca/2025-04-12/
LOCATION:Illes Balears
CATEGORIES:Krystalline
ATTACH;FMTTYPE=image/jpeg:https://medina-mayurca.de/wp-content/uploads/2024/12/Stammtisch.jpg
END:VEVENT
BEGIN:VEVENT
DTSTART;TZID=Europe/Madrid:20250415T190000
DTEND;TZID=Europe/Madrid:20250415T230000
DTSTAMP:20260422T153629
CREATED:20240904T144257Z
LAST-MODIFIED:20241025T110301Z
UID:10000041-1744743600-1744758000@medina-mayurca.de
SUMMARY:Alte Volkslieder (611)
DESCRIPTION:
URL:https://medina-mayurca.de/event/alte-volkslieder-611/
LOCATION:Alcoraia Burg (MM-Burg)\, Diseminado es Gallicant 549\, Campos\, Illes Balears\, 07630\, Spain
CATEGORIES:Sippungen
ATTACH;FMTTYPE=image/jpeg:https://medina-mayurca.de/wp-content/uploads/2024/09/611.jpg
GEO:39.395612;3.040641
X-APPLE-STRUCTURED-LOCATION;VALUE=URI;X-ADDRESS=Alcoraia Burg (MM-Burg) Diseminado es Gallicant 549 Campos Illes Balears 07630 Spain;X-APPLE-RADIUS=500;X-TITLE=Diseminado es Gallicant 549:geo:3.040641,39.395612
END:VEVENT
BEGIN:VEVENT
DTSTART;TZID=Europe/Madrid:20250419T110000
DTEND;TZID=Europe/Madrid:20250419T140000
DTSTAMP:20260422T153629
CREATED:20241215T164713Z
LAST-MODIFIED:20250108T140557Z
UID:10000491-1745060400-1745071200@medina-mayurca.de
SUMMARY:Stammtisch der Medina Mayurca
DESCRIPTION:ir treffen uns jeden Samstag zum Kristalline-Stammtisch um 11 Uhr\nMal hier und mal da. \nIhr wollt uns besuchen? Rt. Na Servas gibt Auskunft über den aktuellen Ort unter na-servas@medina-mayurca.de
URL:https://medina-mayurca.de/event/stammtisch-der-medina-mayurca/2025-04-19/
LOCATION:Illes Balears
CATEGORIES:Krystalline
ATTACH;FMTTYPE=image/jpeg:https://medina-mayurca.de/wp-content/uploads/2024/12/Stammtisch.jpg
END:VEVENT
BEGIN:VEVENT
DTSTART;TZID=Europe/Madrid:20250422T190000
DTEND;TZID=Europe/Madrid:20250422T230000
DTSTAMP:20260422T153629
CREATED:20240904T144335Z
LAST-MODIFIED:20241025T110338Z
UID:10000042-1745348400-1745362800@medina-mayurca.de
SUMMARY:Schmeicheln und Streicheln/Thronwanze (612)
DESCRIPTION:
URL:https://medina-mayurca.de/event/schmeicheln-und-streicheln-thronwanze-612/
LOCATION:Alcoraia Burg (MM-Burg)\, Diseminado es Gallicant 549\, Campos\, Illes Balears\, 07630\, Spain
CATEGORIES:Sippungen
ATTACH;FMTTYPE=image/jpeg:https://medina-mayurca.de/wp-content/uploads/2024/09/612-1.jpg
GEO:39.395612;3.040641
X-APPLE-STRUCTURED-LOCATION;VALUE=URI;X-ADDRESS=Alcoraia Burg (MM-Burg) Diseminado es Gallicant 549 Campos Illes Balears 07630 Spain;X-APPLE-RADIUS=500;X-TITLE=Diseminado es Gallicant 549:geo:3.040641,39.395612
END:VEVENT
BEGIN:VEVENT
DTSTART;TZID=Europe/Madrid:20250426T110000
DTEND;TZID=Europe/Madrid:20250426T140000
DTSTAMP:20260422T153629
CREATED:20241215T164713Z
LAST-MODIFIED:20250108T140557Z
UID:10000492-1745665200-1745676000@medina-mayurca.de
SUMMARY:Stammtisch der Medina Mayurca
DESCRIPTION:ir treffen uns jeden Samstag zum Kristalline-Stammtisch um 11 Uhr\nMal hier und mal da. \nIhr wollt uns besuchen? Rt. Na Servas gibt Auskunft über den aktuellen Ort unter na-servas@medina-mayurca.de
URL:https://medina-mayurca.de/event/stammtisch-der-medina-mayurca/2025-04-26/
LOCATION:Illes Balears
CATEGORIES:Krystalline
ATTACH;FMTTYPE=image/jpeg:https://medina-mayurca.de/wp-content/uploads/2024/12/Stammtisch.jpg
END:VEVENT
BEGIN:VEVENT
DTSTART;TZID=Europe/Madrid:20250429T190000
DTEND;TZID=Europe/Madrid:20250429T230000
DTSTAMP:20260422T153629
CREATED:20240904T144422Z
LAST-MODIFIED:20241025T110410Z
UID:10000043-1745953200-1745967600@medina-mayurca.de
SUMMARY:Wahl -und Schlußschlaraffide (613)
DESCRIPTION:
URL:https://medina-mayurca.de/event/wahl-und-schlussschlaraffide-613/
LOCATION:Alcoraia Burg (MM-Burg)\, Diseminado es Gallicant 549\, Campos\, Illes Balears\, 07630\, Spain
CATEGORIES:Sippungen
ATTACH;FMTTYPE=image/jpeg:https://medina-mayurca.de/wp-content/uploads/2024/09/613-1.jpg
GEO:39.395612;3.040641
X-APPLE-STRUCTURED-LOCATION;VALUE=URI;X-ADDRESS=Alcoraia Burg (MM-Burg) Diseminado es Gallicant 549 Campos Illes Balears 07630 Spain;X-APPLE-RADIUS=500;X-TITLE=Diseminado es Gallicant 549:geo:3.040641,39.395612
END:VEVENT
END:VCALENDAR