BEGIN:VCALENDAR
VERSION:2.0
PRODID:-//Medina Mayurca Schlaraffia (419) - ECPv6.15.20//NONSGML v1.0//EN
CALSCALE:GREGORIAN
METHOD:PUBLISH
X-ORIGINAL-URL:https://medina-mayurca.de
X-WR-CALDESC:Veranstaltungen für Medina Mayurca Schlaraffia (419)
REFRESH-INTERVAL;VALUE=DURATION:PT1H
X-Robots-Tag:noindex
X-PUBLISHED-TTL:PT1H
BEGIN:VTIMEZONE
TZID:Europe/Madrid
BEGIN:DAYLIGHT
TZOFFSETFROM:+0100
TZOFFSETTO:+0200
TZNAME:CEST
DTSTART:20240331T010000
END:DAYLIGHT
BEGIN:STANDARD
TZOFFSETFROM:+0200
TZOFFSETTO:+0100
TZNAME:CET
DTSTART:20241027T010000
END:STANDARD
BEGIN:DAYLIGHT
TZOFFSETFROM:+0100
TZOFFSETTO:+0200
TZNAME:CEST
DTSTART:20250330T010000
END:DAYLIGHT
BEGIN:STANDARD
TZOFFSETFROM:+0200
TZOFFSETTO:+0100
TZNAME:CET
DTSTART:20251026T010000
END:STANDARD
BEGIN:DAYLIGHT
TZOFFSETFROM:+0100
TZOFFSETTO:+0200
TZNAME:CEST
DTSTART:20260329T010000
END:DAYLIGHT
BEGIN:STANDARD
TZOFFSETFROM:+0200
TZOFFSETTO:+0100
TZNAME:CET
DTSTART:20261025T010000
END:STANDARD
END:VTIMEZONE
BEGIN:VEVENT
DTSTART;TZID=Europe/Madrid:20251104T190000
DTEND;TZID=Europe/Madrid:20251104T220000
DTSTAMP:20260422T043052
CREATED:20250824T104607Z
LAST-MODIFIED:20251021T201721Z
UID:10000565-1762282800-1762293600@medina-mayurca.de
SUMMARY:Sippung fällt aus (619)
DESCRIPTION:Die Medina Mayurca-Gedenkfeyer muss leider ausfallen.
URL:https://medina-mayurca.de/event/windmond-schlaraffiade/
LOCATION:Alcoraia Burg (MM-Burg)\, Diseminado es Gallicant 549\, Campos\, Illes Balears\, 07630\, Spain
CATEGORIES:Sippungen
GEO:39.395612;3.040641
X-APPLE-STRUCTURED-LOCATION;VALUE=URI;X-ADDRESS=Alcoraia Burg (MM-Burg) Diseminado es Gallicant 549 Campos Illes Balears 07630 Spain;X-APPLE-RADIUS=500;X-TITLE=Diseminado es Gallicant 549:geo:3.040641,39.395612
END:VEVENT
BEGIN:VEVENT
DTSTART;TZID=Europe/Madrid:20251111T190000
DTEND;TZID=Europe/Madrid:20251111T231100
DTSTAMP:20260422T043052
CREATED:20250824T104641Z
LAST-MODIFIED:20250824T105149Z
UID:10000566-1762887600-1762902660@medina-mayurca.de
SUMMARY:Elfter Elfter Elf-Uhr Elf (620)
DESCRIPTION:
URL:https://medina-mayurca.de/event/elfter-elfter-elf-uhr-elf/
LOCATION:Alcoraia Burg (MM-Burg)\, Diseminado es Gallicant 549\, Campos\, Illes Balears\, 07630\, Spain
CATEGORIES:Sippungen
GEO:39.395612;3.040641
X-APPLE-STRUCTURED-LOCATION;VALUE=URI;X-ADDRESS=Alcoraia Burg (MM-Burg) Diseminado es Gallicant 549 Campos Illes Balears 07630 Spain;X-APPLE-RADIUS=500;X-TITLE=Diseminado es Gallicant 549:geo:3.040641,39.395612
END:VEVENT
BEGIN:VEVENT
DTSTART;TZID=Europe/Madrid:20251118T190000
DTEND;TZID=Europe/Madrid:20251118T220000
DTSTAMP:20260422T043052
CREATED:20250824T104747Z
LAST-MODIFIED:20250824T105354Z
UID:10000567-1763492400-1763503200@medina-mayurca.de
SUMMARY:La Camorra -- Italiano Pasta-Feier (621)
DESCRIPTION:
URL:https://medina-mayurca.de/event/la-camorra-italiano-pasta-feier/
LOCATION:Alcoraia Burg (MM-Burg)\, Diseminado es Gallicant 549\, Campos\, Illes Balears\, 07630\, Spain
CATEGORIES:Sippungen
GEO:39.395612;3.040641
X-APPLE-STRUCTURED-LOCATION;VALUE=URI;X-ADDRESS=Alcoraia Burg (MM-Burg) Diseminado es Gallicant 549 Campos Illes Balears 07630 Spain;X-APPLE-RADIUS=500;X-TITLE=Diseminado es Gallicant 549:geo:3.040641,39.395612
END:VEVENT
BEGIN:VEVENT
DTSTART;TZID=Europe/Madrid:20251125T190000
DTEND;TZID=Europe/Madrid:20251125T220000
DTSTAMP:20260422T043052
CREATED:20250824T104815Z
LAST-MODIFIED:20250824T105426Z
UID:10000568-1764097200-1764108000@medina-mayurca.de
SUMMARY:Neuer ES "Ars Magna" (Ramon LLull) (622)
DESCRIPTION:
URL:https://medina-mayurca.de/event/neuer-es-ars-magna-ramon-llull/
LOCATION:Alcoraia Burg (MM-Burg)\, Diseminado es Gallicant 549\, Campos\, Illes Balears\, 07630\, Spain
CATEGORIES:Sippungen
GEO:39.395612;3.040641
X-APPLE-STRUCTURED-LOCATION;VALUE=URI;X-ADDRESS=Alcoraia Burg (MM-Burg) Diseminado es Gallicant 549 Campos Illes Balears 07630 Spain;X-APPLE-RADIUS=500;X-TITLE=Diseminado es Gallicant 549:geo:3.040641,39.395612
END:VEVENT
END:VCALENDAR