BEGIN:VCALENDAR
VERSION:2.0
PRODID:-//Medina Mayurca Schlaraffia (419) - ECPv6.15.20//NONSGML v1.0//EN
CALSCALE:GREGORIAN
METHOD:PUBLISH
X-ORIGINAL-URL:https://medina-mayurca.de
X-WR-CALDESC:Veranstaltungen für Medina Mayurca Schlaraffia (419)
REFRESH-INTERVAL;VALUE=DURATION:PT1H
X-Robots-Tag:noindex
X-PUBLISHED-TTL:PT1H
BEGIN:VTIMEZONE
TZID:Europe/Madrid
BEGIN:DAYLIGHT
TZOFFSETFROM:+0100
TZOFFSETTO:+0200
TZNAME:CEST
DTSTART:20240331T010000
END:DAYLIGHT
BEGIN:STANDARD
TZOFFSETFROM:+0200
TZOFFSETTO:+0100
TZNAME:CET
DTSTART:20241027T010000
END:STANDARD
BEGIN:DAYLIGHT
TZOFFSETFROM:+0100
TZOFFSETTO:+0200
TZNAME:CEST
DTSTART:20250330T010000
END:DAYLIGHT
BEGIN:STANDARD
TZOFFSETFROM:+0200
TZOFFSETTO:+0100
TZNAME:CET
DTSTART:20251026T010000
END:STANDARD
BEGIN:DAYLIGHT
TZOFFSETFROM:+0100
TZOFFSETTO:+0200
TZNAME:CEST
DTSTART:20260329T010000
END:DAYLIGHT
BEGIN:STANDARD
TZOFFSETFROM:+0200
TZOFFSETTO:+0100
TZNAME:CET
DTSTART:20261025T010000
END:STANDARD
END:VTIMEZONE
BEGIN:VEVENT
DTSTART;TZID=Europe/Madrid:20251202T080000
DTEND;TZID=Europe/Madrid:20251202T170000
DTSTAMP:20260422T024432
CREATED:20250824T104851Z
LAST-MODIFIED:20250824T105204Z
UID:10000569-1764662400-1764694800@medina-mayurca.de
SUMMARY:Christmond-Schlaraffiade (623)
DESCRIPTION:Jeder bringt einen Freund mit
URL:https://medina-mayurca.de/event/christmond-schlaraffiade/
LOCATION:Alcoraia Burg (MM-Burg)\, Diseminado es Gallicant 549\, Campos\, Illes Balears\, 07630\, Spain
CATEGORIES:Sippungen
GEO:39.395612;3.040641
X-APPLE-STRUCTURED-LOCATION;VALUE=URI;X-ADDRESS=Alcoraia Burg (MM-Burg) Diseminado es Gallicant 549 Campos Illes Balears 07630 Spain;X-APPLE-RADIUS=500;X-TITLE=Diseminado es Gallicant 549:geo:3.040641,39.395612
END:VEVENT
BEGIN:VEVENT
DTSTART;TZID=Europe/Madrid:20251209T190000
DTEND;TZID=Europe/Madrid:20251209T220000
DTSTAMP:20260422T024432
CREATED:20250824T112707Z
LAST-MODIFIED:20250824T112707Z
UID:10000590-1765306800-1765317600@medina-mayurca.de
SUMMARY:Jägerlatein und Angeberei´n (624)
DESCRIPTION:
URL:https://medina-mayurca.de/event/jaegerlatein-und-angeberein-624/
LOCATION:Alcoraia Burg (MM-Burg)\, Diseminado es Gallicant 549\, Campos\, Illes Balears\, 07630\, Spain
CATEGORIES:Sippungen
GEO:39.395612;3.040641
X-APPLE-STRUCTURED-LOCATION;VALUE=URI;X-ADDRESS=Alcoraia Burg (MM-Burg) Diseminado es Gallicant 549 Campos Illes Balears 07630 Spain;X-APPLE-RADIUS=500;X-TITLE=Diseminado es Gallicant 549:geo:3.040641,39.395612
END:VEVENT
BEGIN:VEVENT
DTSTART;TZID=Europe/Madrid:20251216T190000
DTEND;TZID=Europe/Madrid:20251216T220000
DTSTAMP:20260422T024432
CREATED:20250824T105518Z
LAST-MODIFIED:20250824T105530Z
UID:10000571-1765911600-1765922400@medina-mayurca.de
SUMMARY:Mein liebstes Gedicht (lyrischer Abend) (625)
DESCRIPTION:
URL:https://medina-mayurca.de/event/mein-liebstes-gedicht-lyrischer-abend/
LOCATION:Alcoraia Burg (MM-Burg)\, Diseminado es Gallicant 549\, Campos\, Illes Balears\, 07630\, Spain
CATEGORIES:Sippungen
GEO:39.395612;3.040641
X-APPLE-STRUCTURED-LOCATION;VALUE=URI;X-ADDRESS=Alcoraia Burg (MM-Burg) Diseminado es Gallicant 549 Campos Illes Balears 07630 Spain;X-APPLE-RADIUS=500;X-TITLE=Diseminado es Gallicant 549:geo:3.040641,39.395612
END:VEVENT
BEGIN:VEVENT
DTSTART;TZID=Europe/Madrid:20251223T190000
DTEND;TZID=Europe/Madrid:20251223T230000
DTSTAMP:20260422T024432
CREATED:20250824T105623Z
LAST-MODIFIED:20250824T105623Z
UID:10000572-1766516400-1766530800@medina-mayurca.de
SUMMARY:Uhubaumfeyer mit Burgfrauen (626)
DESCRIPTION:
URL:https://medina-mayurca.de/event/uhubaumfeyer-mit-burgfrauen-626/
LOCATION:Alcoraia Burg (MM-Burg)\, Diseminado es Gallicant 549\, Campos\, Illes Balears\, 07630\, Spain
CATEGORIES:Sippungen
GEO:39.395612;3.040641
X-APPLE-STRUCTURED-LOCATION;VALUE=URI;X-ADDRESS=Alcoraia Burg (MM-Burg) Diseminado es Gallicant 549 Campos Illes Balears 07630 Spain;X-APPLE-RADIUS=500;X-TITLE=Diseminado es Gallicant 549:geo:3.040641,39.395612
END:VEVENT
END:VCALENDAR